BEGIN:VCALENDAR
VERSION:2.0
PRODID:-//Naarm CC - ECPv6.7.0//NONSGML v1.0//EN
CALSCALE:GREGORIAN
METHOD:PUBLISH
X-WR-CALNAME:Naarm CC
X-ORIGINAL-URL:https://naarm.cc
X-WR-CALDESC:Events for Naarm CC
REFRESH-INTERVAL;VALUE=DURATION:PT1H
X-Robots-Tag:noindex
X-PUBLISHED-TTL:PT1H
BEGIN:VTIMEZONE
TZID:UTC
BEGIN:STANDARD
TZOFFSETFROM:+0000
TZOFFSETTO:+0000
TZNAME:UTC
DTSTART:20260101T000000
END:STANDARD
END:VTIMEZONE
BEGIN:VEVENT
DTSTART;TZID=UTC:20260408T063000
DTEND;TZID=UTC:20260408T081500
DTSTAMP:20260421T081639
CREATED:20241013T130809Z
LAST-MODIFIED:20241014T051456Z
UID:10000864-1775629800-1775636100@naarm.cc
SUMMARY:Curve\, Open Road
DESCRIPTION:Ride DetailsEvery Wednesday @6:30 am | 30km/500vmStart/Finish: Curve HQ (36 Bond St\, Abbotsford) Surface: RoadRide Difficulty: IntermediateRide File: (https://ridewithgps.com/routes/45515047)Join Liege and Curve crew for a social and inclusive ride on some of our favourite local roads through Melbourne’s northern suburbs.Please read if you plan to attend!This road loop takes in the popular Kew Blvd\, then rolls the backstreets out towards Eaglemont\, with a few punchy climbs to get your legs working. The ride finishes at Gary Cafe in Abbotsford.Make sure you are self-sufficient with items to repair flats. Carry snacks and water. Grab your mates and your road bike and join us. We encourage you to download the route to familiarise yourself with the loop and don’t risk getting lost if the group splits.Coffee at Curve HQ from 6:30 amRide departs at 6:45 am SHARP!Ride concludes by 8:15 amYou are welcome to leave bags at Curve when riding.Please have good lights in the Winter months.In the event of poor/wet weather/other\, we will make a decision by 5:45 am the morning of the ride if it is cancelled. This cancellation notice will be posted on our social pages.DISCLAIMER:While Curve social rides are free\, we require you to agree to our waiver and register here!https://www.curvecycling.com/pages/ride-event-need-to-know
URL:https://naarm.cc/index.php/event/curve-open-road/2026-04-08/
LOCATION:Curve HQ\, 36 Bond St\, Abbotsford\, Victoria\, Australia
CATEGORIES:Northside,Road
ATTACH;FMTTYPE=image/png:https://naarm.cc/wp-content/uploads/2024/10/curve-e1728881849707.png
END:VEVENT
END:VCALENDAR